BEGIN:VCALENDAR
VERSION:2.0
PRODID:-//L&#039;Ilot Kergaher - ECPv6.15.17.1//NONSGML v1.0//EN
CALSCALE:GREGORIAN
METHOD:PUBLISH
X-ORIGINAL-URL:https://ilot-kergaher.bzh
X-WR-CALDESC:Évènements pour L&#039;Ilot Kergaher
REFRESH-INTERVAL;VALUE=DURATION:PT1H
X-Robots-Tag:noindex
X-PUBLISHED-TTL:PT1H
BEGIN:VTIMEZONE
TZID:Europe/Paris
BEGIN:DAYLIGHT
TZOFFSETFROM:+0100
TZOFFSETTO:+0200
TZNAME:CEST
DTSTART:20230326T010000
END:DAYLIGHT
BEGIN:STANDARD
TZOFFSETFROM:+0200
TZOFFSETTO:+0100
TZNAME:CET
DTSTART:20231029T010000
END:STANDARD
BEGIN:DAYLIGHT
TZOFFSETFROM:+0100
TZOFFSETTO:+0200
TZNAME:CEST
DTSTART:20240331T010000
END:DAYLIGHT
BEGIN:STANDARD
TZOFFSETFROM:+0200
TZOFFSETTO:+0100
TZNAME:CET
DTSTART:20241027T010000
END:STANDARD
BEGIN:DAYLIGHT
TZOFFSETFROM:+0100
TZOFFSETTO:+0200
TZNAME:CEST
DTSTART:20250330T010000
END:DAYLIGHT
BEGIN:STANDARD
TZOFFSETFROM:+0200
TZOFFSETTO:+0100
TZNAME:CET
DTSTART:20251026T010000
END:STANDARD
END:VTIMEZONE
BEGIN:VEVENT
DTSTART;TZID=Europe/Paris:20241117T100000
DTEND;TZID=Europe/Paris:20241117T120000
DTSTAMP:20260419T223238
CREATED:20241004T095223Z
LAST-MODIFIED:20250903T093055Z
UID:31593-1731837600-1731844800@ilot-kergaher.bzh
SUMMARY:Atelier taille des arbres fruitiers
DESCRIPTION:Atelier participatif et ouvert à tous.tes sur taille arbres fruitiers avec Krystel d’Aventures végétales.\n\nRDV à L’îlot kergaher.\n\nPossibilité d’un pique nique partagé à la fin de l’atelier.\n\nAtelier gratuit.\n\nInscription sur animations@ilot-kergaher.bzh\n\n 
URL:https://ilot-kergaher.bzh/event/atelier-taille-des-arbres-fruitiers/
ATTACH;FMTTYPE=image/png:https://ilot-kergaher.bzh/wp-content/uploads/2022/08/Dessin-2-1.png
END:VEVENT
END:VCALENDAR