BEGIN:VCALENDAR
VERSION:2.0
PRODID:-//L&#039;Ilot Kergaher - ECPv6.15.17.1//NONSGML v1.0//EN
CALSCALE:GREGORIAN
METHOD:PUBLISH
X-ORIGINAL-URL:https://ilot-kergaher.bzh
X-WR-CALDESC:Évènements pour L&#039;Ilot Kergaher
REFRESH-INTERVAL;VALUE=DURATION:PT1H
X-Robots-Tag:noindex
X-PUBLISHED-TTL:PT1H
BEGIN:VTIMEZONE
TZID:Europe/Paris
BEGIN:DAYLIGHT
TZOFFSETFROM:+0100
TZOFFSETTO:+0200
TZNAME:CEST
DTSTART:20230326T010000
END:DAYLIGHT
BEGIN:STANDARD
TZOFFSETFROM:+0200
TZOFFSETTO:+0100
TZNAME:CET
DTSTART:20231029T010000
END:STANDARD
BEGIN:DAYLIGHT
TZOFFSETFROM:+0100
TZOFFSETTO:+0200
TZNAME:CEST
DTSTART:20240331T010000
END:DAYLIGHT
BEGIN:STANDARD
TZOFFSETFROM:+0200
TZOFFSETTO:+0100
TZNAME:CET
DTSTART:20241027T010000
END:STANDARD
BEGIN:DAYLIGHT
TZOFFSETFROM:+0100
TZOFFSETTO:+0200
TZNAME:CEST
DTSTART:20250330T010000
END:DAYLIGHT
BEGIN:STANDARD
TZOFFSETFROM:+0200
TZOFFSETTO:+0100
TZNAME:CET
DTSTART:20251026T010000
END:STANDARD
END:VTIMEZONE
BEGIN:VEVENT
DTSTART;TZID=Europe/Paris:20241030T140000
DTEND;TZID=Europe/Paris:20241030T160000
DTSTAMP:20260419T194837
CREATED:20241009T135254Z
LAST-MODIFIED:20241009T135559Z
UID:31652-1730296800-1730304000@ilot-kergaher.bzh
SUMMARY:En octobre tous dehors !
DESCRIPTION:Dans le cadre de l’événement En octobre\, Tous dehors ! porté par le Réseau d’Éducation à l’Environnement en Bretagne (REEB) L’îlot Kergaher et Morgane Juette vous propose une animation sur la thématique « Dunes et Estran ». \nOuvert à tous.tes \nGratuit \nInscription en écrivant à animations@ilot-kergaher.bzh  \nLe mercredi 30 octobre 2024 de 14h à 16h 
URL:https://ilot-kergaher.bzh/event/en-octobre-tous-dehors/
ATTACH;FMTTYPE=image/png:https://ilot-kergaher.bzh/wp-content/uploads/2024/10/A3-TousDehors-2024-QRCode-e1728482114709.png
END:VEVENT
END:VCALENDAR