BEGIN:VCALENDAR
VERSION:2.0
PRODID:-//L&#039;Ilot Kergaher - ECPv6.15.17.1//NONSGML v1.0//EN
CALSCALE:GREGORIAN
METHOD:PUBLISH
X-ORIGINAL-URL:https://ilot-kergaher.bzh
X-WR-CALDESC:Évènements pour L&#039;Ilot Kergaher
REFRESH-INTERVAL;VALUE=DURATION:PT1H
X-Robots-Tag:noindex
X-PUBLISHED-TTL:PT1H
BEGIN:VTIMEZONE
TZID:Europe/Paris
BEGIN:DAYLIGHT
TZOFFSETFROM:+0100
TZOFFSETTO:+0200
TZNAME:CEST
DTSTART:20230326T010000
END:DAYLIGHT
BEGIN:STANDARD
TZOFFSETFROM:+0200
TZOFFSETTO:+0100
TZNAME:CET
DTSTART:20231029T010000
END:STANDARD
BEGIN:DAYLIGHT
TZOFFSETFROM:+0100
TZOFFSETTO:+0200
TZNAME:CEST
DTSTART:20240331T010000
END:DAYLIGHT
BEGIN:STANDARD
TZOFFSETFROM:+0200
TZOFFSETTO:+0100
TZNAME:CET
DTSTART:20241027T010000
END:STANDARD
BEGIN:DAYLIGHT
TZOFFSETFROM:+0100
TZOFFSETTO:+0200
TZNAME:CEST
DTSTART:20250330T010000
END:DAYLIGHT
BEGIN:STANDARD
TZOFFSETFROM:+0200
TZOFFSETTO:+0100
TZNAME:CET
DTSTART:20251026T010000
END:STANDARD
END:VTIMEZONE
BEGIN:VEVENT
DTSTART;TZID=Europe/Paris:20241029T100000
DTEND;TZID=Europe/Paris:20241029T130000
DTSTAMP:20260419T194843
CREATED:20241022T162519Z
LAST-MODIFIED:20241022T163409Z
UID:31700-1730196000-1730206800@ilot-kergaher.bzh
SUMMARY:"Dia de Los Muertos" : découverte culturelle et gastronomique
DESCRIPTION:Invitation à découvrir l’art de rendre hommage aux défunt·es comme au Mexique.\nDécouverte culturelle et gastronomique\, ouverte aux adultes et aux enfants (à partir de 6 ans) \nAu programme :  \n\nOrigine de la fête « Dia de Los Muertos »\nAtelier création d’un autel à domicile\nFabrication du pain des morts\n\nLe mardi 29 octobre de 10h à 13h. 20 euros par personne / 30 euros pour deux. \nRéservations /informations : \ncontact.hablemosespagnol@gmail.com\n06 43 57 92 38 \n 
URL:https://ilot-kergaher.bzh/event/dia-de-los-muertos-decouverte-culturelle-et-gastronomique/
CATEGORIES:Accueilli à L'îlot,Pour les enfants
ATTACH;FMTTYPE=image/jpeg:https://ilot-kergaher.bzh/wp-content/uploads/2024/10/2-e1729614840721.jpg
END:VEVENT
END:VCALENDAR