BEGIN:VCALENDAR
VERSION:2.0
PRODID:-//L&#039;Ilot Kergaher - ECPv6.15.17.1//NONSGML v1.0//EN
CALSCALE:GREGORIAN
METHOD:PUBLISH
X-ORIGINAL-URL:https://ilot-kergaher.bzh
X-WR-CALDESC:Évènements pour L&#039;Ilot Kergaher
REFRESH-INTERVAL;VALUE=DURATION:PT1H
X-Robots-Tag:noindex
X-PUBLISHED-TTL:PT1H
BEGIN:VTIMEZONE
TZID:Europe/Paris
BEGIN:DAYLIGHT
TZOFFSETFROM:+0100
TZOFFSETTO:+0200
TZNAME:CEST
DTSTART:20230326T010000
END:DAYLIGHT
BEGIN:STANDARD
TZOFFSETFROM:+0200
TZOFFSETTO:+0100
TZNAME:CET
DTSTART:20231029T010000
END:STANDARD
BEGIN:DAYLIGHT
TZOFFSETFROM:+0100
TZOFFSETTO:+0200
TZNAME:CEST
DTSTART:20240331T010000
END:DAYLIGHT
BEGIN:STANDARD
TZOFFSETFROM:+0200
TZOFFSETTO:+0100
TZNAME:CET
DTSTART:20241027T010000
END:STANDARD
BEGIN:DAYLIGHT
TZOFFSETFROM:+0100
TZOFFSETTO:+0200
TZNAME:CEST
DTSTART:20250330T010000
END:DAYLIGHT
BEGIN:STANDARD
TZOFFSETFROM:+0200
TZOFFSETTO:+0100
TZNAME:CET
DTSTART:20251026T010000
END:STANDARD
END:VTIMEZONE
BEGIN:VEVENT
DTSTART;TZID=Europe/Paris:20241016T080000
DTEND;TZID=Europe/Paris:20241016T170000
DTSTAMP:20260419T211220
CREATED:20240801T090204Z
LAST-MODIFIED:20240801T090204Z
UID:31479-1729065600-1729098000@ilot-kergaher.bzh
SUMMARY:La Pressi-Mobile à L'îlot
DESCRIPTION:Vous disposez d’arbres fruitiers dans votre jardin ? Vous obtenez chaque année de nombreux fruits dont vous ne savez pas quoi faire ? \n  \nPlutôt que de les gâcher\, faites-les presser ! \nVous venez avec vos fruits\, vous repartez avec vos propres jus\, sans aucun ajout ni trucs bizarres ! 100 % naturels ! \nPrenez rendez-vous : \n\n\n\nRéservez gratuitement : une place vous sera réservée !
URL:https://ilot-kergaher.bzh/event/la-pressi-mobile-a-lilot-3/
ATTACH;FMTTYPE=image/png:https://ilot-kergaher.bzh/wp-content/uploads/2022/09/B1EFD254-5509-4528-A4B5-9CAD873406F0-e1664382797679.png
END:VEVENT
BEGIN:VEVENT
DTSTART;TZID=Europe/Paris:20241016T093000
DTEND;TZID=Europe/Paris:20241016T120000
DTSTAMP:20260419T211220
CREATED:20241007T100806Z
LAST-MODIFIED:20241007T122536Z
UID:31602-1729071000-1729080000@ilot-kergaher.bzh
SUMMARY:Comptage d'Hermelles
DESCRIPTION:L’Ifremer étudie l’hermelle\, un ver marin qui empêche l’érosion côtière.  \nPour les soutenir venez nous aider à les compter. \nRDV à la crique des amoureux à 9H30
URL:https://ilot-kergaher.bzh/event/comptage-dhermelles/
ATTACH;FMTTYPE=image/png:https://ilot-kergaher.bzh/wp-content/uploads/2024/10/2.png
END:VEVENT
END:VCALENDAR