BEGIN:VCALENDAR
VERSION:2.0
PRODID:-//L&#039;Ilot Kergaher - ECPv6.15.17.1//NONSGML v1.0//EN
CALSCALE:GREGORIAN
METHOD:PUBLISH
X-ORIGINAL-URL:https://ilot-kergaher.bzh
X-WR-CALDESC:Évènements pour L&#039;Ilot Kergaher
REFRESH-INTERVAL;VALUE=DURATION:PT1H
X-Robots-Tag:noindex
X-PUBLISHED-TTL:PT1H
BEGIN:VTIMEZONE
TZID:Europe/Paris
BEGIN:DAYLIGHT
TZOFFSETFROM:+0100
TZOFFSETTO:+0200
TZNAME:CEST
DTSTART:20230326T010000
END:DAYLIGHT
BEGIN:STANDARD
TZOFFSETFROM:+0200
TZOFFSETTO:+0100
TZNAME:CET
DTSTART:20231029T010000
END:STANDARD
BEGIN:DAYLIGHT
TZOFFSETFROM:+0100
TZOFFSETTO:+0200
TZNAME:CEST
DTSTART:20240331T010000
END:DAYLIGHT
BEGIN:STANDARD
TZOFFSETFROM:+0200
TZOFFSETTO:+0100
TZNAME:CET
DTSTART:20241027T010000
END:STANDARD
BEGIN:DAYLIGHT
TZOFFSETFROM:+0100
TZOFFSETTO:+0200
TZNAME:CEST
DTSTART:20250330T010000
END:DAYLIGHT
BEGIN:STANDARD
TZOFFSETFROM:+0200
TZOFFSETTO:+0100
TZNAME:CET
DTSTART:20251026T010000
END:STANDARD
END:VTIMEZONE
BEGIN:VEVENT
DTSTART;TZID=Europe/Paris:20241006T100000
DTEND;TZID=Europe/Paris:20241006T180000
DTSTAMP:20260419T183850
CREATED:20240910T082748Z
LAST-MODIFIED:20240910T083035Z
UID:31558-1728208800-1728237600@ilot-kergaher.bzh
SUMMARY:Journée bien-être
DESCRIPTION:Le réseau de thérapeutes Opopop vous propose une journée bien-être à L’îlot Kergaher le dimanche 6 octobre de 10h à 18h. \nEn discutant autour d’un café ou lors d’ateliers et de conférences\, vous pourrez découvrir les accompagnements de thérapeutes du secteur. \nAvec :\n– Amañ – l’Accompagnement Nature. Un accompagnement atypique avec l’aide de la Nature.\n– Élodie Galven. Praticienne EFT. Gestion des émotions\, libération des blocages…\n– Olivier Le Clainche. Hypnothérapie\, hypno-magnétisme\, sevrage tabagique\, PNL\, gestion du poids par l’hypnose.\n– Céline Robino. Sophrologue.\n– Sandrine Roncin. Thérapie psycho-corporelle\, DIMOT (EMDR). Massothérapie.\n– Sonia Duchateau. Kinésiologue. \n 
URL:https://ilot-kergaher.bzh/event/journee-bien-etre/
LOCATION:Ilot Kergaher\, 17 A lieu dit Kergaher\, GUIDEL\, 56520
CATEGORIES:Accueilli à L'îlot
ATTACH;FMTTYPE=image/jpeg:https://ilot-kergaher.bzh/wp-content/uploads/2024/09/2024_09_09_visuel-e1725956916572.jpg
END:VEVENT
END:VCALENDAR