BEGIN:VCALENDAR
VERSION:2.0
PRODID:-//L&#039;Ilot Kergaher - ECPv6.15.17.1//NONSGML v1.0//EN
CALSCALE:GREGORIAN
METHOD:PUBLISH
X-ORIGINAL-URL:https://ilot-kergaher.bzh
X-WR-CALDESC:Évènements pour L&#039;Ilot Kergaher
REFRESH-INTERVAL;VALUE=DURATION:PT1H
X-Robots-Tag:noindex
X-PUBLISHED-TTL:PT1H
BEGIN:VTIMEZONE
TZID:Europe/Paris
BEGIN:DAYLIGHT
TZOFFSETFROM:+0100
TZOFFSETTO:+0200
TZNAME:CEST
DTSTART:20230326T010000
END:DAYLIGHT
BEGIN:STANDARD
TZOFFSETFROM:+0200
TZOFFSETTO:+0100
TZNAME:CET
DTSTART:20231029T010000
END:STANDARD
BEGIN:DAYLIGHT
TZOFFSETFROM:+0100
TZOFFSETTO:+0200
TZNAME:CEST
DTSTART:20240331T010000
END:DAYLIGHT
BEGIN:STANDARD
TZOFFSETFROM:+0200
TZOFFSETTO:+0100
TZNAME:CET
DTSTART:20241027T010000
END:STANDARD
BEGIN:DAYLIGHT
TZOFFSETFROM:+0100
TZOFFSETTO:+0200
TZNAME:CEST
DTSTART:20250330T010000
END:DAYLIGHT
BEGIN:STANDARD
TZOFFSETFROM:+0200
TZOFFSETTO:+0100
TZNAME:CET
DTSTART:20251026T010000
END:STANDARD
END:VTIMEZONE
BEGIN:VEVENT
DTSTART;TZID=Europe/Paris:20240918T100000
DTEND;TZID=Europe/Paris:20240918T113000
DTSTAMP:20260419T170431
CREATED:20240827T123450Z
LAST-MODIFIED:20240827T123713Z
UID:31508-1726653600-1726659000@ilot-kergaher.bzh
SUMMARY:Collecte de pommes avec le Club nature
DESCRIPTION:Venez accompagner le club nature le mercredi 18 septembre à 10h à collecter les pommes de L’îlot ! \nUne fois pressées\, elles deviennent le jus de fruit des enfants en séjour à L’îlot \nUN GRAND MERCI !
URL:https://ilot-kergaher.bzh/event/collecte-de-pommes-avec-le-club-nature/
ATTACH;FMTTYPE=image/png:https://ilot-kergaher.bzh/wp-content/uploads/2022/09/lilot-enfants-e1677138899869.png
END:VEVENT
END:VCALENDAR